BEGIN:VCALENDAR
VERSION:2.0
PRODID:-//https://www.abtei-muensterschwarzach.de///NONSGML kigkonsult.se iCalcreator 2.10.15//
METHOD:PUBLISH
BEGIN:VEVENT
UID:20260420T084019CEST-3710VuOgmS@https://www.abtei-muensterschwarzach.de/
DTSTAMP:20260420T064019Z
DESCRIPTION:Kursleitung: Bruder Melchior Schnaidt\nFür Männer zwischen 18 u
 nd 40\, die das Klosterleben näher kennen lernen und das Mönchsein in eine
 r brüderlichen Gemeinschaft entdecken möchten.\n' Mit den Mönchen beten\, 
 arbeiten und essen\,\n' das alltägliche Leben eines Mönches führen\, zusam
 men mit anderen\, die Gott suchen\,\n' mit Impulsen und Einführungen\n' un
 d der eigenen Berufung auf der Spur.\nDer Kurs richtet an jeden\, der den 
 Mönch in sich entdecken möchte.\n(Bitte Arbeitskleidung mitbringen)\n \nZi
 elgruppe: 18 - 40 Jahre\nWeitere Informationen\n\n\n\nLeitung\nBruder Melc
 hior Schnaidt\n\n\n \n \n\n\nAnmeldung\n\nGästehaus Abtei Münsterschwarzac
 h\nSchweinfurter Str. 40\n97359 Schwarzach am Main\nDeutschland\nE-Mail: g
 h@abtei-muensterschwarzach.de\nTelefon: 09324-20203\nFax: 09324-20205\n\n
 \n\nKosten\n\n70€ Gesamtkosten\n \n\n\n\n\n https://www.abtei-muensterschw
 arzach.de/aktuelles/veranstaltungen/alle-veranstaltungen/event/524-kloster
 -auf-zeit-für-18-40-jährige
DTSTART:20240202T163000Z
DTEND:20240204T120000Z
LOCATION:Abtei Münsterschwarzach (Schweinfurter Str. 40)
SUMMARY:Kloster auf Zeit für 18 - 40 Jährige
URL:https://www.abtei-muensterschwarzach.de/aktuelles/veranstaltungen/alle-
 veranstaltungen/event/524-kloster-auf-zeit-für-18-40-jährige
END:VEVENT
END:VCALENDAR
