BEGIN:VCALENDAR
VERSION:2.0
PRODID:-//https://www.abtei-muensterschwarzach.de///NONSGML kigkonsult.se iCalcreator 2.10.15//
METHOD:PUBLISH
BEGIN:VEVENT
UID:20260420T080925CEST-7799faZAuK@https://www.abtei-muensterschwarzach.de/
DTSTAMP:20260420T060925Z
DESCRIPTION:Am Mittwoch\, 8. April\, 19.00 Uh\, musiziert das Bamberger Str
 eichquartett\, ein international renommiertes Ensemble\, bestehend aus Mit
 gliedern der Bamberger Symphoniker-Bayerische Staatsphilharmonie. Auf dem 
 Programm stehen 'Die sieben letzten Worte unseres Erlösers am Kreuze' op. 
 51 Nr. 1-7 von Joseph Haydn. Betrachtungen zu den einzelnen Sätzen Jesu am
  Kreuz spricht Pater Anselm Grün\, OSB. Der charismatische Mönch vom Klost
 er Münsterschwarzach ist durch seine vielen Bücher längst weltbekannt. Sei
 ne meditativen und berührenden Texte sind sehr geschätzt und beliebt.\nHay
 dn schrieb diese Karfreitagsmusik 1785 im Auftrag eines spanischen Domherr
 n für die Kathedrale von Cadix. Das Werk machte überall\, wo es zur Auffüh
 rung kam\, tiefen Eindruck. Haydn selbst zählte es zu seinen gelungensten 
 Schöpfungen. Haydn hat mit dieser Musik seine Ehrfurcht und Dankbarkeit fü
 r die Gnade Gottes zum Ausdruck gebracht. Er selbst schrieb über dieses We
 rk: ' .. jedwede Sonate\, oder jedweder Text ist bloß durch die Instrmenta
 l Music dergestalten ausgedruckt\, dass es den unerfahrensten den tiefsten
  Eindruck in Seiner Seel Erwecket. .. '\nVeranstaltungsort:St. Mauritius W
 iesentheidBalthasar Neumann Str. 1a97353 Wiesentheid https://www.abtei-mue
 nsterschwarzach.de/aktuelles/veranstaltungen/event/251-abgesagt-passionsko
 nzert-mit-geistlichen-worten-in-wiesentheid
DTSTART:20200408T170000Z
DTEND:20200408T190000Z
LOCATION: ()
SUMMARY:Abgesagt: Passionskonzert mit geistlichen Worten in Wiesentheid
URL:https://www.abtei-muensterschwarzach.de/aktuelles/veranstaltungen/event
 /251-abgesagt-passionskonzert-mit-geistlichen-worten-in-wiesentheid
END:VEVENT
END:VCALENDAR
