BEGIN:VCALENDAR
VERSION:2.0
PRODID:-//https://www.abtei-muensterschwarzach.de///NONSGML kigkonsult.se iCalcreator 2.10.15//
METHOD:PUBLISH
BEGIN:VEVENT
UID:20260424T073616CEST-4749W9eM0j@https://www.abtei-muensterschwarzach.de/
DTSTAMP:20260424T053616Z
DESCRIPTION:Kursleitung: Bruder Lukas Grote\, Pater Frank Möhler\nFür Männe
 r zwischen 18 und 40\, die das Klosterleben näher kennen lernen und das Mö
 nchsein in einer brüderlichen Gemeinschaft entdecken möchten.Mit den Mönch
 en beten\, arbeiten und essen\, das alltägliche Leben eines Mönches führen
 \, zusammen mit anderen\, die Gott suchen\, mit Impulsen und Einführungen 
 und der eigenen Berufung auf der Spur. Der Kurs richtet sich an jeden\, de
 r den Mönch in sich entdecken möchte. Insbesondere auch für den\, der dies
 e Lebensform für sich prüfen möchte. Bitte Arbeitskleidung mitbringen - au
 ßer für Kurse\, die nur am Wochenende stattfinden.\nZielgruppe: 18 - 40 Ja
 hre\nWeitere Informationen\n\n\n\nLeitung\nBruder Lukas Grote\, Pater Fran
 k Möhler\n\n\n \n \n\n\nAnmeldung\n\nGästehaus Abtei MünsterschwarzachSchw
 einfurter Str. 4097359 Schwarzach am Main\nE-Mail: gh@abtei-muensterschwar
 zach.deTelefon: 09324-20203Fax: 09324-20205\n\n\n\nKosten\n\n200\,00 € Ges
 amtkosten / Nichtverdienende: 130\,00 €\n \n\n\n\n\n https://www.abtei-mue
 nsterschwarzach.de/aktuelles/veranstaltungen/event/650-kloster-auf-zeit-fü
 r-18-40-jährige
DTSTART:20260727T160000Z
DTEND:20260802T110000Z
LOCATION:Abtei Münsterschwarzach (Schweinfurter Str. 40)
SUMMARY:Kloster auf Zeit für 18 - 40 Jährige
URL:https://www.abtei-muensterschwarzach.de/aktuelles/veranstaltungen/event
 /650-kloster-auf-zeit-für-18-40-jährige
END:VEVENT
END:VCALENDAR
