BEGIN:VCALENDAR
VERSION:2.0
PRODID:-//https://www.abtei-muensterschwarzach.de///NONSGML kigkonsult.se iCalcreator 2.10.15//
METHOD:PUBLISH
BEGIN:VEVENT
UID:20260424T073616CEST-0131cI9UN6@https://www.abtei-muensterschwarzach.de/
DTSTAMP:20260424T053616Z
DESCRIPTION:Kursleitung: Bruder Kilian Ohs\, Pater Wolfgang Sigler\nFür Män
 ner zwischen 18 und 40\, die das Klosterleben näher kennen lernen und das 
 Mönchsein in einer brüderlichen Gemeinschaft entdecken möchten.Mit den Mön
 chen beten\, arbeiten und essen\, das alltägliche Leben eines Mönches führ
 en\, zusammen mit anderen\, die Gott suchen\, mit Impulsen und Einführunge
 n und der eigenen Berufung auf der Spur. Der Kurs richtet sich an jeden\, 
 der den Mönch in sich entdecken möchte. Insbesondere auch für den\, der di
 ese Lebensform für sich prüfen möchte. Bitte Arbeitskleidung mitbringen - 
 außer für Kurse\, die nur am Wochenende stattfinden.\nZielgruppe: 18 - 40 
 Jahre\nWeitere Informationen\n\n\n\nLeitung\nBruder Kilian Ohs\, Pater Wol
 fgang Sigler\n\n\n \n \n\n\nAnmeldung\n\nGästehaus Abtei Münsterschwarzach
 Schweinfurter Str. 4097359 Schwarzach am Main\nE-Mail: gh@abtei-muenstersc
 hwarzach.deTelefon: 09324-20203Fax: 09324-20205\n\n\n\nKosten\n\n110\,00 €
  Gesamtkosten / Nichtverdienende: 85\,00 €\n \n\n\n\n\n https://www.abtei-
 muensterschwarzach.de/aktuelles/veranstaltungen/event/651-kloster-auf-zeit
 -für-18-40-jährige
DTSTART:20261126T170000Z
DTEND:20261129T120000Z
LOCATION:Abtei Münsterschwarzach (Schweinfurter Str. 40)
SUMMARY:Kloster auf Zeit für 18 - 40 Jährige
URL:https://www.abtei-muensterschwarzach.de/aktuelles/veranstaltungen/event
 /651-kloster-auf-zeit-für-18-40-jährige
END:VEVENT
END:VCALENDAR
